BEGIN:VCALENDAR
VERSION:2.0
PRODID:-//Westmoreland Sanctuary - ECPv6.15.20//NONSGML v1.0//EN
CALSCALE:GREGORIAN
METHOD:PUBLISH
X-WR-CALNAME:Westmoreland Sanctuary
X-ORIGINAL-URL:https://westmorelandsanctuary.org
X-WR-CALDESC:Events for Westmoreland Sanctuary
REFRESH-INTERVAL;VALUE=DURATION:PT1H
X-Robots-Tag:noindex
X-PUBLISHED-TTL:PT1H
BEGIN:VTIMEZONE
TZID:America/New_York
BEGIN:DAYLIGHT
TZOFFSETFROM:-0500
TZOFFSETTO:-0400
TZNAME:EDT
DTSTART:20250309T070000
END:DAYLIGHT
BEGIN:STANDARD
TZOFFSETFROM:-0400
TZOFFSETTO:-0500
TZNAME:EST
DTSTART:20251102T060000
END:STANDARD
BEGIN:DAYLIGHT
TZOFFSETFROM:-0500
TZOFFSETTO:-0400
TZNAME:EDT
DTSTART:20260308T070000
END:DAYLIGHT
BEGIN:STANDARD
TZOFFSETFROM:-0400
TZOFFSETTO:-0500
TZNAME:EST
DTSTART:20261101T060000
END:STANDARD
BEGIN:DAYLIGHT
TZOFFSETFROM:-0500
TZOFFSETTO:-0400
TZNAME:EDT
DTSTART:20270314T070000
END:DAYLIGHT
BEGIN:STANDARD
TZOFFSETFROM:-0400
TZOFFSETTO:-0500
TZNAME:EST
DTSTART:20271107T060000
END:STANDARD
END:VTIMEZONE
BEGIN:VEVENT
DTSTART;TZID=America/New_York:20260306T180000
DTEND;TZID=America/New_York:20260306T210000
DTSTAMP:20260423T015519
CREATED:20251113T202232Z
LAST-MODIFIED:20260206T185556Z
UID:10000808-1772820000-1772830800@westmorelandsanctuary.org
SUMMARY:The Art of Seasonal Wines: A Conversation and Tasting with Charles Lundington
DESCRIPTION:Title: The Art of Seasonal Wines: A Conversation and Tasting with Charles Lundington\nDate: Friday\, March 6\nTime: 6:00–9:00 p.m.\nFee: $65.00\nAudience: Adults only\nWines discussed are available for purchase with 10-15% profit going towards Westmoreland Sanctuary's mission\, to acquire\, enrich and reserve land for the free use and education of the public.\n\nProgram Description:\nJoin us for an engaging evening of wine exploration with expert Charles Lundington as we delve into The Art of Seasonal Wines. This special tasting and discussion will highlight the nuances of organic\, biodynamic\, and natural wines\, exploring what truly sets these categories apart.\n\nWhile the terms organic\, biodynamic\, and natural are often used interchangeably\, each represents a distinct philosophy and approach to winemaking. Participants will discover how these production methods aim to reduce or eliminate the use of pesticides and herbicides\, and how some forgo sulfites to create purer expressions of the grape.\n\nThrough guided tastings and lively conversation\, Charles will illustrate how these practices influence the character and complexity of wine\, and how they compare to conventional techniques. Attendees will come away with a deeper understanding of sustainable winemaking and the ability to make more informed\, environmentally conscious choices when selecting wines for the spring and summer seasons.\n\n\n\n\n \nPowered by
URL:https://westmorelandsanctuary.org/calendar/the-art-of-seasonal-wines-a-conversation-and-tasting-with-charles-lundington/
LOCATION:Westmoreland\, 260 Chestnut Ridge Rd\, Mt Kisco\, 10509\, United States
CATEGORIES:After Hours Program,Special Events
ATTACH;FMTTYPE=image/png:https://westmorelandsanctuary.org/wp-content/uploads/2025/11/The-Art-of-Seasonal-Wines-Discussion-Tasting-at-Westmoreland-Sanctuary--scaled.png
END:VEVENT
END:VCALENDAR