BEGIN:VCALENDAR
VERSION:2.0
PRODID:-//Westmoreland Sanctuary - ECPv6.15.20//NONSGML v1.0//EN
CALSCALE:GREGORIAN
METHOD:PUBLISH
X-WR-CALNAME:Westmoreland Sanctuary
X-ORIGINAL-URL:https://westmorelandsanctuary.org
X-WR-CALDESC:Events for Westmoreland Sanctuary
REFRESH-INTERVAL;VALUE=DURATION:PT1H
X-Robots-Tag:noindex
X-PUBLISHED-TTL:PT1H
BEGIN:VTIMEZONE
TZID:America/New_York
BEGIN:DAYLIGHT
TZOFFSETFROM:-0500
TZOFFSETTO:-0400
TZNAME:EDT
DTSTART:20240310T070000
END:DAYLIGHT
BEGIN:STANDARD
TZOFFSETFROM:-0400
TZOFFSETTO:-0500
TZNAME:EST
DTSTART:20241103T060000
END:STANDARD
BEGIN:DAYLIGHT
TZOFFSETFROM:-0500
TZOFFSETTO:-0400
TZNAME:EDT
DTSTART:20250309T070000
END:DAYLIGHT
BEGIN:STANDARD
TZOFFSETFROM:-0400
TZOFFSETTO:-0500
TZNAME:EST
DTSTART:20251102T060000
END:STANDARD
BEGIN:DAYLIGHT
TZOFFSETFROM:-0500
TZOFFSETTO:-0400
TZNAME:EDT
DTSTART:20260308T070000
END:DAYLIGHT
BEGIN:STANDARD
TZOFFSETFROM:-0400
TZOFFSETTO:-0500
TZNAME:EST
DTSTART:20261101T060000
END:STANDARD
BEGIN:DAYLIGHT
TZOFFSETFROM:-0500
TZOFFSETTO:-0400
TZNAME:EDT
DTSTART:20270314T070000
END:DAYLIGHT
BEGIN:STANDARD
TZOFFSETFROM:-0400
TZOFFSETTO:-0500
TZNAME:EST
DTSTART:20271107T060000
END:STANDARD
END:VTIMEZONE
BEGIN:VEVENT
DTSTART;TZID=America/New_York:20251104T100000
DTEND;TZID=America/New_York:20251104T113000
DTSTAMP:20260423T005100
CREATED:20251021T171012Z
LAST-MODIFIED:20251021T171323Z
UID:10000794-1762250400-1762255800@westmorelandsanctuary.org
SUMMARY:Beginner Birding Blitz
DESCRIPTION:Join us for a special two-hour program that brings together an indoor wildlife encounter and an outdoor winter adventure. Meet Westmoreland Sanctuary’s resident animals up close\, then head out on a guided nature hike to explore how local plants and wildlife adapt to the winter season. A fun and educational experience for families and nature lovers of all ages during the holiday break.\n\nDate: December 22 & 28\nTime: 1 - 3 PM\nAges: All ages\nCost: $10 per child\nRegistration: \nPay Now
URL:https://westmorelandsanctuary.org/calendar/beginner-birding-blitz/
LOCATION:Westmoreland\, 260 Chestnut Ridge Rd\, Mt Kisco\, 10509\, United States
CATEGORIES:Birding
ATTACH;FMTTYPE=image/jpeg:https://westmorelandsanctuary.org/wp-content/uploads/2025/10/Northern-cardinal-Cardinalis-cardinalis.jpg
END:VEVENT
BEGIN:VEVENT
DTSTART;TZID=America/New_York:20251228T130000
DTEND;TZID=America/New_York:20251228T150000
DTSTAMP:20260423T005100
CREATED:20251205T184105Z
LAST-MODIFIED:20251205T184105Z
UID:10000813-1766926800-1766934000@westmorelandsanctuary.org
SUMMARY:Meet the Animals & Winter Nature Hike
DESCRIPTION:Join us for a special two-hour program that brings together an indoor wildlife encounter and an outdoor winter adventure. Meet Westmoreland Sanctuary’s resident animals up close\, then head out on a guided nature hike to explore how local plants and wildlife adapt to the winter season. A fun and educational experience for families and nature lovers of all ages during the holiday break.\n\nDate: December 22 & 28\nTime: 1 - 3 PM\nAges: All ages\nCost: $10 per child\nRegistration: \nPay Now
URL:https://westmorelandsanctuary.org/calendar/meet-the-animals-winter-nature-hike/2025-12-28/
LOCATION:Westmoreland\, 260 Chestnut Ridge Rd\, Mt Kisco\, 10509\, United States
CATEGORIES:Birding,Special Events
ATTACH;FMTTYPE=image/jpeg:https://westmorelandsanctuary.org/wp-content/uploads/2025/12/Northern-cardinal-Cardinalis-cardinalis.jpg
END:VEVENT
BEGIN:VEVENT
DTSTART;TZID=America/New_York:20260221T090000
DTEND;TZID=America/New_York:20260221T110000
DTSTAMP:20260423T005100
CREATED:20250929T135105Z
LAST-MODIFIED:20250929T135122Z
UID:10000787-1771664400-1771671600@westmorelandsanctuary.org
SUMMARY:Young Birder's Club
DESCRIPTION:Join us for a special two-hour program that brings together an indoor wildlife encounter and an outdoor winter adventure. Meet Westmoreland Sanctuary’s resident animals up close\, then head out on a guided nature hike to explore how local plants and wildlife adapt to the winter season. A fun and educational experience for families and nature lovers of all ages during the holiday break.\n\nDate: December 22 & 28\nTime: 1 - 3 PM\nAges: All ages\nCost: $10 per child\nRegistration: \nPay Now
URL:https://westmorelandsanctuary.org/calendar/young-birders-club/2026-02-21/
LOCATION:Westmoreland\, 260 Chestnut Ridge Rd\, Mt Kisco\, 10509\, United States
CATEGORIES:Birding
ATTACH;FMTTYPE=image/jpeg:https://westmorelandsanctuary.org/wp-content/uploads/2024/10/1fef724b-1ac3-d769-7502-a8ec9ce3020a-1.jpg
END:VEVENT
END:VCALENDAR