BEGIN:VCALENDAR
VERSION:2.0
PRODID:-//Westmoreland Sanctuary - ECPv6.15.20//NONSGML v1.0//EN
CALSCALE:GREGORIAN
METHOD:PUBLISH
X-WR-CALNAME:Westmoreland Sanctuary
X-ORIGINAL-URL:https://westmorelandsanctuary.org
X-WR-CALDESC:Events for Westmoreland Sanctuary
REFRESH-INTERVAL;VALUE=DURATION:PT1H
X-Robots-Tag:noindex
X-PUBLISHED-TTL:PT1H
BEGIN:VTIMEZONE
TZID:America/New_York
BEGIN:DAYLIGHT
TZOFFSETFROM:-0500
TZOFFSETTO:-0400
TZNAME:EDT
DTSTART:20250309T070000
END:DAYLIGHT
BEGIN:STANDARD
TZOFFSETFROM:-0400
TZOFFSETTO:-0500
TZNAME:EST
DTSTART:20251102T060000
END:STANDARD
BEGIN:DAYLIGHT
TZOFFSETFROM:-0500
TZOFFSETTO:-0400
TZNAME:EDT
DTSTART:20260308T070000
END:DAYLIGHT
BEGIN:STANDARD
TZOFFSETFROM:-0400
TZOFFSETTO:-0500
TZNAME:EST
DTSTART:20261101T060000
END:STANDARD
BEGIN:DAYLIGHT
TZOFFSETFROM:-0500
TZOFFSETTO:-0400
TZNAME:EDT
DTSTART:20270314T070000
END:DAYLIGHT
BEGIN:STANDARD
TZOFFSETFROM:-0400
TZOFFSETTO:-0500
TZNAME:EST
DTSTART:20271107T060000
END:STANDARD
END:VTIMEZONE
BEGIN:VEVENT
DTSTART;VALUE=DATE:20260424
DTEND;VALUE=DATE:20260425
DTSTAMP:20260422T185836
CREATED:20260328T001506Z
LAST-MODIFIED:20260328T233228Z
UID:10000816-1776988800-1777075199@westmorelandsanctuary.org
SUMMARY:Fundraiser for Capital Project Environmental Education Center- Private Event
DESCRIPTION:For more information: \nAntoinette Muti \nMulti.alum.mit@gmail.com
URL:https://westmorelandsanctuary.org/calendar/fundraiser-for-capital-project-environmental-education-center-private-event/
LOCATION:Westmoreland\, 260 Chestnut Ridge Rd\, Mt Kisco\, 10509\, United States
CATEGORIES:Special Events
END:VEVENT
BEGIN:VEVENT
DTSTART;TZID=America/New_York:20260425T100000
DTEND;TZID=America/New_York:20260425T160000
DTSTAMP:20260422T185836
CREATED:20250911T130905Z
LAST-MODIFIED:20250911T130905Z
UID:10000774-1777111200-1777132800@westmorelandsanctuary.org
SUMMARY:Raid the Sanctuary
DESCRIPTION:
URL:https://westmorelandsanctuary.org/calendar/raid-the-sanctuary/
LOCATION:Westmoreland\, 260 Chestnut Ridge Rd\, Mt Kisco\, 10509\, United States
CATEGORIES:Special Events,Yearly Events
ATTACH;FMTTYPE=image/jpeg:https://westmorelandsanctuary.org/wp-content/uploads/2021/10/Orienteering-2.jpeg
END:VEVENT
BEGIN:VEVENT
DTSTART;TZID=America/New_York:20260502T150000
DTEND;TZID=America/New_York:20260502T180000
DTSTAMP:20260422T185836
CREATED:20260124T194604Z
LAST-MODIFIED:20260408T134419Z
UID:10000815-1777734000-1777744800@westmorelandsanctuary.org
SUMMARY:Family Fundraiser
DESCRIPTION:
URL:https://westmorelandsanctuary.org/calendar/family-fundraiser/
LOCATION:Westmoreland\, 260 Chestnut Ridge Rd\, Mt Kisco\, 10509\, United States
CATEGORIES:Special Events,Yearly Events
ATTACH;FMTTYPE=image/jpeg:https://westmorelandsanctuary.org/wp-content/uploads/2026/01/image8-rotated.jpeg
END:VEVENT
BEGIN:VEVENT
DTSTART;TZID=America/New_York:20260525T100000
DTEND;TZID=America/New_York:20260525T123000
DTSTAMP:20260422T185836
CREATED:20251120T185752Z
LAST-MODIFIED:20251120T190006Z
UID:10000809-1779703200-1779712200@westmorelandsanctuary.org
SUMMARY:Colonial Cider Making
DESCRIPTION:Pay Now
URL:https://westmorelandsanctuary.org/calendar/colonial-cider-making-4/2026-05-25/1/
LOCATION:Westmoreland\, 260 Chestnut Ridge Rd\, Mt Kisco\, 10509\, United States
CATEGORIES:Special Events,Yearly Events
ATTACH;FMTTYPE=image/jpeg:https://westmorelandsanctuary.org/wp-content/uploads/2025/08/IMG_6936-1-scaled.jpg
END:VEVENT
BEGIN:VEVENT
DTSTART;TZID=America/New_York:20260730T190000
DTEND;TZID=America/New_York:20260730T210000
DTSTAMP:20260422T185836
CREATED:20251103T210644Z
LAST-MODIFIED:20251103T211831Z
UID:10000804-1785438000-1785445200@westmorelandsanctuary.org
SUMMARY:Basket Making
DESCRIPTION:
URL:https://westmorelandsanctuary.org/calendar/basket-making/
LOCATION:Westmoreland\, 260 Chestnut Ridge Rd\, Mt Kisco\, 10509\, United States
CATEGORIES:Art Programs,Special Events
ATTACH;FMTTYPE=image/png:https://westmorelandsanctuary.org/wp-content/uploads/2025/11/Screenshot-2025-11-03-at-3.36.21-PM.png
END:VEVENT
BEGIN:VEVENT
DTSTART;TZID=America/New_York:20260907T110000
DTEND;TZID=America/New_York:20260907T120000
DTSTAMP:20260422T185836
CREATED:20251104T122243Z
LAST-MODIFIED:20251104T122243Z
UID:10000805-1788778800-1788782400@westmorelandsanctuary.org
SUMMARY:Labor Day Holiday Program
DESCRIPTION:
URL:https://westmorelandsanctuary.org/calendar/labor-day-holiday-program/
LOCATION:Westmoreland\, 260 Chestnut Ridge Rd\, Mt Kisco\, 10509\, United States
CATEGORIES:Special Events
ATTACH;FMTTYPE=image/png:https://westmorelandsanctuary.org/wp-content/uploads/2021/03/Screenshot-2023-05-06-at-8.00.41-AM.png
END:VEVENT
END:VCALENDAR