BEGIN:VCALENDAR
VERSION:2.0
PRODID:-//Westmoreland Sanctuary - ECPv6.15.20//NONSGML v1.0//EN
CALSCALE:GREGORIAN
METHOD:PUBLISH
X-ORIGINAL-URL:https://westmorelandsanctuary.org
X-WR-CALDESC:Events for Westmoreland Sanctuary
REFRESH-INTERVAL;VALUE=DURATION:PT1H
X-Robots-Tag:noindex
X-PUBLISHED-TTL:PT1H
BEGIN:VTIMEZONE
TZID:America/New_York
BEGIN:DAYLIGHT
TZOFFSETFROM:-0500
TZOFFSETTO:-0400
TZNAME:EDT
DTSTART:20230312T070000
END:DAYLIGHT
BEGIN:STANDARD
TZOFFSETFROM:-0400
TZOFFSETTO:-0500
TZNAME:EST
DTSTART:20231105T060000
END:STANDARD
BEGIN:DAYLIGHT
TZOFFSETFROM:-0500
TZOFFSETTO:-0400
TZNAME:EDT
DTSTART:20240310T070000
END:DAYLIGHT
BEGIN:STANDARD
TZOFFSETFROM:-0400
TZOFFSETTO:-0500
TZNAME:EST
DTSTART:20241103T060000
END:STANDARD
BEGIN:DAYLIGHT
TZOFFSETFROM:-0500
TZOFFSETTO:-0400
TZNAME:EDT
DTSTART:20250309T070000
END:DAYLIGHT
BEGIN:STANDARD
TZOFFSETFROM:-0400
TZOFFSETTO:-0500
TZNAME:EST
DTSTART:20251102T060000
END:STANDARD
END:VTIMEZONE
BEGIN:VEVENT
DTSTART;TZID=America/New_York:20241014T100000
DTEND;TZID=America/New_York:20241014T120000
DTSTAMP:20260422T222325
CREATED:20241001T124023Z
LAST-MODIFIED:20241009T131422Z
UID:10000653-1728900000-1728907200@westmorelandsanctuary.org
SUMMARY:Fall Foliage Hike
DESCRIPTION:
URL:https://westmorelandsanctuary.org/calendar/fall-foliage-hike/
LOCATION:Westmoreland\, 260 Chestnut Ridge Rd\, Mt Kisco\, 10509\, United States
CATEGORIES:After Hours Program,Special Events
ATTACH;FMTTYPE=image/jpeg:https://westmorelandsanctuary.org/wp-content/uploads/2022/06/IMG_1894.jpg
END:VEVENT
BEGIN:VEVENT
DTSTART;TZID=America/New_York:20241003T100000
DTEND;TZID=America/New_York:20241003T120000
DTSTAMP:20260422T222325
CREATED:20241002T183013Z
LAST-MODIFIED:20241002T183013Z
UID:10000660-1727949600-1727956800@westmorelandsanctuary.org
SUMMARY:Apple Cider Making Workshop
DESCRIPTION:
URL:https://westmorelandsanctuary.org/calendar/apple-cider-making-workshop/
LOCATION:Westmoreland\, 260 Chestnut Ridge Rd\, Mt Kisco\, 10509\, United States
CATEGORIES:Special Events
ATTACH;FMTTYPE=image/jpeg:https://westmorelandsanctuary.org/wp-content/uploads/2024/10/apple-cider-making.jpg
END:VEVENT
BEGIN:VEVENT
DTSTART;TZID=America/New_York:20240818T080000
DTEND;TZID=America/New_York:20240818T120000
DTSTAMP:20260422T222325
CREATED:20240628T180357Z
LAST-MODIFIED:20240628T180619Z
UID:10000622-1723968000-1723982400@westmorelandsanctuary.org
SUMMARY:Trail Race
DESCRIPTION:Trail race is hosted with our partner Westchester Road Runner.\nSunday\, August 18th 2024\n8:00 AM-12:00 PM \nTo purchase tickets\, please see website link here
URL:https://westmorelandsanctuary.org/calendar/trail-race/
LOCATION:Westmoreland\, 260 Chestnut Ridge Rd\, Mt Kisco\, 10509\, United States
CATEGORIES:Public Programs,Special Events
ATTACH;FMTTYPE=image/png:https://westmorelandsanctuary.org/wp-content/uploads/2024/06/Screenshot-2024-06-28-at-1.37.51 PM-e1719596890797.png
END:VEVENT
BEGIN:VEVENT
DTSTART;TZID=America/New_York:20240719T190000
DTEND;TZID=America/New_York:20240719T190000
DTSTAMP:20260422T222325
CREATED:20240628T191705Z
LAST-MODIFIED:20240628T191837Z
UID:10000624-1721415600-1721415600@westmorelandsanctuary.org
SUMMARY:A Benefit Staged Reading
DESCRIPTION:  \nTickets and more info here
URL:https://westmorelandsanctuary.org/calendar/a-benefit-staged-reading/
LOCATION:Westmoreland\, 260 Chestnut Ridge Rd\, Mt Kisco\, 10509\, United States
CATEGORIES:Art Programs,Public Programs,Special Events
ATTACH;FMTTYPE=image/jpeg:https://westmorelandsanctuary.org/wp-content/uploads/2024/06/Timing-POSTERw_QR-2.jpg
END:VEVENT
BEGIN:VEVENT
DTSTART;TZID=America/New_York:20240630T093000
DTEND;TZID=America/New_York:20240630T113000
DTSTAMP:20260422T222325
CREATED:20240628T184618Z
LAST-MODIFIED:20240628T184737Z
UID:10000623-1719739800-1719747000@westmorelandsanctuary.org
SUMMARY:Nature Photography
DESCRIPTION:To buy tickets and see more info here
URL:https://westmorelandsanctuary.org/calendar/nature-photography/
LOCATION:Westmoreland\, 260 Chestnut Ridge Rd\, Mt Kisco\, 10509\, United States
CATEGORIES:Art Programs,Special Events,Yearly Events
ATTACH;FMTTYPE=image/jpeg:https://westmorelandsanctuary.org/wp-content/uploads/2024/01/American-Goldfinch-scaled.jpg
END:VEVENT
BEGIN:VEVENT
DTSTART;VALUE=DATE:20240527
DTEND;VALUE=DATE:20240528
DTSTAMP:20260422T222325
CREATED:20240515T184945Z
LAST-MODIFIED:20240515T185649Z
UID:10000613-1716768000-1716854399@westmorelandsanctuary.org
SUMMARY:Memorial Day Hike
DESCRIPTION:Memorial Day Hike
URL:https://westmorelandsanctuary.org/calendar/memorial-day-hike/
CATEGORIES:Special Events
ATTACH;FMTTYPE=image/jpeg:https://westmorelandsanctuary.org/wp-content/uploads/2022/02/Trail-Fox-Run_featured-image.jpg
END:VEVENT
BEGIN:VEVENT
DTSTART;TZID=America/New_York:20240505T080000
DTEND;TZID=America/New_York:20240505T170000
DTSTAMP:20260422T222325
CREATED:20240129T130849Z
LAST-MODIFIED:20240131T180803Z
UID:10000593-1714896000-1714928400@westmorelandsanctuary.org
SUMMARY:Orienteering - Raid the Sanctuary
DESCRIPTION:
URL:https://westmorelandsanctuary.org/calendar/orienteering-raid-the-sanctuary/
LOCATION:Westmoreland\, 260 Chestnut Ridge Rd\, Mt Kisco\, 10509\, United States
CATEGORIES:Special Events,Year-Round Programs
ATTACH;FMTTYPE=image/jpeg:https://westmorelandsanctuary.org/wp-content/uploads/2021/03/IMG_2224.jpg
END:VEVENT
END:VCALENDAR