BEGIN:VCALENDAR
VERSION:2.0
PRODID:-//Westmoreland Sanctuary - ECPv6.15.20//NONSGML v1.0//EN
CALSCALE:GREGORIAN
METHOD:PUBLISH
X-ORIGINAL-URL:https://westmorelandsanctuary.org
X-WR-CALDESC:Events for Westmoreland Sanctuary
REFRESH-INTERVAL;VALUE=DURATION:PT1H
X-Robots-Tag:noindex
X-PUBLISHED-TTL:PT1H
BEGIN:VTIMEZONE
TZID:America/New_York
BEGIN:DAYLIGHT
TZOFFSETFROM:-0500
TZOFFSETTO:-0400
TZNAME:EDT
DTSTART:20230312T070000
END:DAYLIGHT
BEGIN:STANDARD
TZOFFSETFROM:-0400
TZOFFSETTO:-0500
TZNAME:EST
DTSTART:20231105T060000
END:STANDARD
BEGIN:DAYLIGHT
TZOFFSETFROM:-0500
TZOFFSETTO:-0400
TZNAME:EDT
DTSTART:20240310T070000
END:DAYLIGHT
BEGIN:STANDARD
TZOFFSETFROM:-0400
TZOFFSETTO:-0500
TZNAME:EST
DTSTART:20241103T060000
END:STANDARD
BEGIN:DAYLIGHT
TZOFFSETFROM:-0500
TZOFFSETTO:-0400
TZNAME:EDT
DTSTART:20250309T070000
END:DAYLIGHT
BEGIN:STANDARD
TZOFFSETFROM:-0400
TZOFFSETTO:-0500
TZNAME:EST
DTSTART:20251102T060000
END:STANDARD
BEGIN:DAYLIGHT
TZOFFSETFROM:-0500
TZOFFSETTO:-0400
TZNAME:EDT
DTSTART:20260308T070000
END:DAYLIGHT
BEGIN:STANDARD
TZOFFSETFROM:-0400
TZOFFSETTO:-0500
TZNAME:EST
DTSTART:20261101T060000
END:STANDARD
END:VTIMEZONE
BEGIN:VEVENT
DTSTART;TZID=America/New_York:20250414T090000
DTEND;TZID=America/New_York:20250418T150000
DTSTAMP:20260423T005158
CREATED:20250310T150041Z
LAST-MODIFIED:20250313T200238Z
UID:10000692-1744621200-1744988400@westmorelandsanctuary.org
SUMMARY:Spring Conservation Camp
DESCRIPTION:
URL:https://westmorelandsanctuary.org/calendar/spring-conservation-camp-2/
LOCATION:Westmoreland\, 260 Chestnut Ridge Rd\, Mt Kisco\, 10509\, United States
CATEGORIES:Camps
ATTACH;FMTTYPE=image/jpeg:https://westmorelandsanctuary.org/wp-content/uploads/2025/03/42f51eca-58c6-e785-de0a-937f6cce3ade-1.jpg
END:VEVENT
BEGIN:VEVENT
DTSTART;TZID=America/New_York:20250413T110000
DTEND;TZID=America/New_York:20250413T130000
DTSTAMP:20260423T005159
CREATED:20250313T135512Z
LAST-MODIFIED:20250416T220801Z
UID:10000705-1744542000-1744549200@westmorelandsanctuary.org
SUMMARY:Junior Animal Care Day
DESCRIPTION:
URL:https://westmorelandsanctuary.org/calendar/junior-animal-care-day/2025-04-13/
LOCATION:Westmoreland\, 260 Chestnut Ridge Rd\, Mt Kisco\, 10509\, United States
CATEGORIES:Camps,Education,Public Programs
ATTACH;FMTTYPE=image/jpeg:https://westmorelandsanctuary.org/wp-content/uploads/2024/10/thumbnail_58FAA42A-FEB5-4670-AB10-3AF9B1350E02-e1727798752126.jpg
END:VEVENT
BEGIN:VEVENT
DTSTART;TZID=America/New_York:20250411T190000
DTEND;TZID=America/New_York:20250411T210000
DTSTAMP:20260423T005159
CREATED:20250313T141607Z
LAST-MODIFIED:20250313T141729Z
UID:10000707-1744398000-1744405200@westmorelandsanctuary.org
SUMMARY:Amphibian Night Hike
DESCRIPTION:
URL:https://westmorelandsanctuary.org/calendar/amphibian-night-hike/2025-04-11/
LOCATION:Westmoreland\, 260 Chestnut Ridge Rd\, Mt Kisco\, 10509\, United States
CATEGORIES:Education,Special Events,Yearly Events
ATTACH;FMTTYPE=image/jpeg:https://westmorelandsanctuary.org/wp-content/uploads/2024/04/5c854e9f-0bce-594b-e626-124a7ee22c95-scaled.jpg
END:VEVENT
BEGIN:VEVENT
DTSTART;TZID=America/New_York:20250316T100000
DTEND;TZID=America/New_York:20250316T120000
DTSTAMP:20260423T005159
CREATED:20250310T145616Z
LAST-MODIFIED:20250310T145616Z
UID:10000691-1742119200-1742126400@westmorelandsanctuary.org
SUMMARY:Volunteer Conservation Day
DESCRIPTION:
URL:https://westmorelandsanctuary.org/calendar/volunteer-conservation-day/
LOCATION:Westmoreland\, 260 Chestnut Ridge Rd\, Mt Kisco\, 10509\, United States
ATTACH;FMTTYPE=image/png:https://westmorelandsanctuary.org/wp-content/uploads/2024/10/Screenshot-2025-03-10-at-10.43.01 AM.png
END:VEVENT
BEGIN:VEVENT
DTSTART;TZID=America/New_York:20250217T090000
DTEND;TZID=America/New_York:20250221T150000
DTSTAMP:20260423T005159
CREATED:20250110T122220Z
LAST-MODIFIED:20250110T122309Z
UID:10000682-1739782800-1740150000@westmorelandsanctuary.org
SUMMARY:Winter Break Camp
DESCRIPTION:
URL:https://westmorelandsanctuary.org/calendar/winter-break-camp-2/
LOCATION:Westmoreland\, 260 Chestnut Ridge Rd\, Mt Kisco\, 10509\, United States
CATEGORIES:Camps
ATTACH;FMTTYPE=image/jpeg:https://westmorelandsanctuary.org/wp-content/uploads/2022/01/Feb-Break-Camp-e1683031494881.jpg
END:VEVENT
BEGIN:VEVENT
DTSTART;TZID=America/New_York:20250124T183000
DTEND;TZID=America/New_York:20250124T210000
DTSTAMP:20260423T005159
CREATED:20241203T150531Z
LAST-MODIFIED:20241219T210350Z
UID:10000672-1737743400-1737752400@westmorelandsanctuary.org
SUMMARY:Westmoreland's Winterfest
DESCRIPTION:Buy Tickets \n\n \n\n\n\n\nTicket Price & Sponsorship Levels\n\n\nSingle Ticket Price $135.00 USDChickadee (comes with 2 tickets) $1\,000.00 USD \nCardinal (comes with 4 tickets & take home floral arrangement) $2\,500.00 USD \nWoodpecker (comes with 6 tickets & take home floral arrangement) $5\,000.00 USD \nOwl (8 tickets & floral arrangement & premium yearly parking) $10\,000.00 USD
URL:https://westmorelandsanctuary.org/calendar/wetmorelands-winterfest/
LOCATION:Westmoreland\, 260 Chestnut Ridge Rd\, Mt Kisco\, 10509\, United States
CATEGORIES:Special Events
ATTACH;FMTTYPE=image/jpeg:https://westmorelandsanctuary.org/wp-content/uploads/2024/12/Westmorelands-Winterfest-Invitation.jpg
END:VEVENT
BEGIN:VEVENT
DTSTART;TZID=America/New_York:20241227T130000
DTEND;TZID=America/New_York:20241227T150000
DTSTAMP:20260423T005159
CREATED:20241210T162201Z
LAST-MODIFIED:20241210T162202Z
UID:10000675-1735304400-1735311600@westmorelandsanctuary.org
SUMMARY:Holiday Break
DESCRIPTION:
URL:https://westmorelandsanctuary.org/calendar/holiday-break-2/
LOCATION:Westmoreland\, 260 Chestnut Ridge Rd\, Mt Kisco\, 10509\, United States
CATEGORIES:Camps,Public Programs
ATTACH;FMTTYPE=image/jpeg:https://westmorelandsanctuary.org/wp-content/uploads/2022/01/Feb-Break-Camp-e1683031494881.jpg
END:VEVENT
BEGIN:VEVENT
DTSTART;TZID=America/New_York:20241223T080000
DTEND;TZID=America/New_York:20250104T170000
DTSTAMP:20260423T005159
CREATED:20241223T134522Z
LAST-MODIFIED:20241223T134522Z
UID:10000678-1734940800-1736010000@westmorelandsanctuary.org
SUMMARY:Holiday Closure
DESCRIPTION:
URL:https://westmorelandsanctuary.org/calendar/holiday-closure/
LOCATION:Westmoreland\, 260 Chestnut Ridge Rd\, Mt Kisco\, 10509\, United States
END:VEVENT
BEGIN:VEVENT
DTSTART;TZID=America/New_York:20241205T190000
DTEND;TZID=America/New_York:20241205T210000
DTSTAMP:20260423T005159
CREATED:20241118T141335Z
LAST-MODIFIED:20241118T141335Z
UID:10000669-1733425200-1733432400@westmorelandsanctuary.org
SUMMARY:Floral Design
DESCRIPTION:
URL:https://westmorelandsanctuary.org/calendar/floral-design-2/
LOCATION:Westmoreland\, 260 Chestnut Ridge Rd\, Mt Kisco\, 10509\, United States
ATTACH;FMTTYPE=image/jpeg:https://westmorelandsanctuary.org/wp-content/uploads/2023/05/From-Above-1.jpg
END:VEVENT
BEGIN:VEVENT
DTSTART;TZID=America/New_York:20241124T100000
DTEND;TZID=America/New_York:20241124T120000
DTSTAMP:20260423T005159
CREATED:20241001T163718Z
LAST-MODIFIED:20241001T163718Z
UID:10000659-1732442400-1732449600@westmorelandsanctuary.org
SUMMARY:Junior Animal Care Program
DESCRIPTION:
URL:https://westmorelandsanctuary.org/calendar/junior-animal-care-program/2024-11-24/
LOCATION:Westmoreland\, 260 Chestnut Ridge Rd\, Mt Kisco\, 10509\, United States
CATEGORIES:Camps,Public Programs,Special Events
ATTACH;FMTTYPE=image/jpeg:https://westmorelandsanctuary.org/wp-content/uploads/2024/10/thumbnail_58FAA42A-FEB5-4670-AB10-3AF9B1350E02-e1727798752126.jpg
END:VEVENT
BEGIN:VEVENT
DTSTART;TZID=America/New_York:20241121T190000
DTEND;TZID=America/New_York:20241121T210000
DTSTAMP:20260423T005159
CREATED:20241118T140827Z
LAST-MODIFIED:20241118T141009Z
UID:10000668-1732215600-1732222800@westmorelandsanctuary.org
SUMMARY:Floral Design
DESCRIPTION:
URL:https://westmorelandsanctuary.org/calendar/floral-design/
CATEGORIES:Art Programs,Yearly Events
ATTACH;FMTTYPE=image/jpeg:https://westmorelandsanctuary.org/wp-content/uploads/2023/01/Floral-Design-Westmoreland-Sanctuary-e1727288395697.jpg
END:VEVENT
BEGIN:VEVENT
DTSTART;TZID=America/New_York:20241020T090000
DTEND;TZID=America/New_York:20241026T150000
DTSTAMP:20260423T005159
CREATED:20240816T182422Z
LAST-MODIFIED:20241001T165758Z
UID:10000644-1729414800-1729954800@westmorelandsanctuary.org
SUMMARY:Three for One Orienteering Meet
DESCRIPTION:Saturday October 20th 2024\nat Westmoreland Sanctuary\n3 for 1 Beginners Courses\nPlus JROTC Regional Meet\nPlus advanced courses \nCourse information and registration \n  \n 
URL:https://westmorelandsanctuary.org/calendar/three-for-one-orienteering-meet/
LOCATION:Westmoreland\, 260 Chestnut Ridge Rd\, Mt Kisco\, 10509\, United States
CATEGORIES:Special Events,Yearly Events
ATTACH;FMTTYPE=image/png:https://westmorelandsanctuary.org/wp-content/uploads/2021/03/Screen-Shot-2021-03-18-at-12.35.12-PM.png
END:VEVENT
BEGIN:VEVENT
DTSTART;TZID=America/New_York:20241014T100000
DTEND;TZID=America/New_York:20241014T120000
DTSTAMP:20260423T005159
CREATED:20241001T124023Z
LAST-MODIFIED:20241009T131422Z
UID:10000653-1728900000-1728907200@westmorelandsanctuary.org
SUMMARY:Fall Foliage Hike
DESCRIPTION:
URL:https://westmorelandsanctuary.org/calendar/fall-foliage-hike/
LOCATION:Westmoreland\, 260 Chestnut Ridge Rd\, Mt Kisco\, 10509\, United States
CATEGORIES:After Hours Program,Special Events
ATTACH;FMTTYPE=image/jpeg:https://westmorelandsanctuary.org/wp-content/uploads/2022/06/IMG_1894.jpg
END:VEVENT
BEGIN:VEVENT
DTSTART;TZID=America/New_York:20241003T100000
DTEND;TZID=America/New_York:20241003T120000
DTSTAMP:20260423T005159
CREATED:20241002T183013Z
LAST-MODIFIED:20241002T183013Z
UID:10000660-1727949600-1727956800@westmorelandsanctuary.org
SUMMARY:Apple Cider Making Workshop
DESCRIPTION:
URL:https://westmorelandsanctuary.org/calendar/apple-cider-making-workshop/
LOCATION:Westmoreland\, 260 Chestnut Ridge Rd\, Mt Kisco\, 10509\, United States
CATEGORIES:Special Events
ATTACH;FMTTYPE=image/jpeg:https://westmorelandsanctuary.org/wp-content/uploads/2024/10/apple-cider-making.jpg
END:VEVENT
BEGIN:VEVENT
DTSTART;TZID=America/New_York:20240926T190000
DTEND;TZID=America/New_York:20240926T210000
DTSTAMP:20260423T005159
CREATED:20231219T122634Z
LAST-MODIFIED:20240815T192536Z
UID:10000579-1727377200-1727384400@westmorelandsanctuary.org
SUMMARY:Floral Design - Late Bloomers
DESCRIPTION:
URL:https://westmorelandsanctuary.org/calendar/floral-design-late-bloomers/
LOCATION:Westmoreland\, 260 Chestnut Ridge Rd\, Mt Kisco\, 10509\, United States
CATEGORIES:Art Programs
ATTACH;FMTTYPE=image/jpeg:https://westmorelandsanctuary.org/wp-content/uploads/2022/08/Floral-Fall.jpg
END:VEVENT
BEGIN:VEVENT
DTSTART;TZID=America/New_York:20240905T151808
DTEND;TZID=America/New_York:20240905T151808
DTSTAMP:20260423T005159
CREATED:20240905T151807Z
LAST-MODIFIED:20240905T151808Z
UID:10000648-1725549488-1725549488@westmorelandsanctuary.org
SUMMARY:Free Tuesday Hike
DESCRIPTION:
URL:https://westmorelandsanctuary.org/calendar/free-tuesday-hike-2-2/
LOCATION:Westmoreland\, 260 Chestnut Ridge Rd\, Mt Kisco\, 10509\, United States
CATEGORIES:Public Programs
ATTACH;FMTTYPE=image/jpeg:https://westmorelandsanctuary.org/wp-content/uploads/2021/03/20190609_085851_front-page.jpg
END:VEVENT
BEGIN:VEVENT
DTSTART;TZID=America/New_York:20240826T090000
DTEND;TZID=America/New_York:20240829T150000
DTSTAMP:20260423T005159
CREATED:20240424T195035Z
LAST-MODIFIED:20240424T200110Z
UID:10000609-1724662800-1724943600@westmorelandsanctuary.org
SUMMARY:Survive the Wild III
DESCRIPTION:
URL:https://westmorelandsanctuary.org/calendar/survive-the-wild-iii/
LOCATION:Westmoreland\, 260 Chestnut Ridge Rd\, Mt Kisco\, 10509\, United States
CATEGORIES:Camps
ATTACH;FMTTYPE=image/jpeg:https://westmorelandsanctuary.org/wp-content/uploads/2024/01/IMG_0008.jpg
END:VEVENT
BEGIN:VEVENT
DTSTART;TZID=America/New_York:20240819T080000
DTEND;TZID=America/New_York:20240822T170000
DTSTAMP:20260423T005159
CREATED:20240110T210236Z
LAST-MODIFIED:20240110T210236Z
UID:10000585-1724054400-1724346000@westmorelandsanctuary.org
SUMMARY:Summer Conservation Camp
DESCRIPTION:
URL:https://westmorelandsanctuary.org/calendar/summer-conservation-camp-2/
LOCATION:Westmoreland\, 260 Chestnut Ridge Rd\, Mt Kisco\, 10509\, United States
CATEGORIES:Camps
ATTACH;FMTTYPE=image/jpeg:https://westmorelandsanctuary.org/wp-content/uploads/2024/01/IMG_8723.jpg
END:VEVENT
BEGIN:VEVENT
DTSTART;TZID=America/New_York:20240818T080000
DTEND;TZID=America/New_York:20240818T120000
DTSTAMP:20260423T005159
CREATED:20240628T180357Z
LAST-MODIFIED:20240628T180619Z
UID:10000622-1723968000-1723982400@westmorelandsanctuary.org
SUMMARY:Trail Race
DESCRIPTION:Trail race is hosted with our partner Westchester Road Runner.\nSunday\, August 18th 2024\n8:00 AM-12:00 PM \nTo purchase tickets\, please see website link here
URL:https://westmorelandsanctuary.org/calendar/trail-race/
LOCATION:Westmoreland\, 260 Chestnut Ridge Rd\, Mt Kisco\, 10509\, United States
CATEGORIES:Public Programs,Special Events
ATTACH;FMTTYPE=image/png:https://westmorelandsanctuary.org/wp-content/uploads/2024/06/Screenshot-2024-06-28-at-1.37.51 PM-e1719596890797.png
END:VEVENT
BEGIN:VEVENT
DTSTART;TZID=America/New_York:20240812T080000
DTEND;TZID=America/New_York:20240815T170000
DTSTAMP:20260423T005159
CREATED:20240110T210128Z
LAST-MODIFIED:20240424T200142Z
UID:10000584-1723449600-1723741200@westmorelandsanctuary.org
SUMMARY:Survive the Wild II Camp
DESCRIPTION:
URL:https://westmorelandsanctuary.org/calendar/survive-the-wild-ii-camp/
LOCATION:Westmoreland\, 260 Chestnut Ridge Rd\, Mt Kisco\, 10509\, United States
CATEGORIES:Camps
ATTACH;FMTTYPE=image/jpeg:https://westmorelandsanctuary.org/wp-content/uploads/2024/01/IMG_0017.jpg
END:VEVENT
BEGIN:VEVENT
DTSTART;TZID=America/New_York:20240806T090000
DTEND;TZID=America/New_York:20240809T150000
DTSTAMP:20260423T005159
CREATED:20240110T205955Z
LAST-MODIFIED:20240110T205956Z
UID:10000583-1722934800-1723215600@westmorelandsanctuary.org
SUMMARY:Nature Explorer II Camp
DESCRIPTION:
URL:https://westmorelandsanctuary.org/calendar/nature-explorer-ii-camp/
LOCATION:Westmoreland\, 260 Chestnut Ridge Rd\, Mt Kisco\, 10509\, United States
CATEGORIES:Camps
ATTACH;FMTTYPE=image/png:https://westmorelandsanctuary.org/wp-content/uploads/2021/12/Conservation.png
END:VEVENT
BEGIN:VEVENT
DTSTART;TZID=America/New_York:20240723T090000
DTEND;TZID=America/New_York:20240726T150000
DTSTAMP:20260423T005159
CREATED:20240110T210537Z
LAST-MODIFIED:20240110T210819Z
UID:10000586-1721725200-1722006000@westmorelandsanctuary.org
SUMMARY:Survive the Wild I Camp
DESCRIPTION:
URL:https://westmorelandsanctuary.org/calendar/survive-the-wild-ii-camp-2/
LOCATION:Westmoreland\, 260 Chestnut Ridge Rd\, Mt Kisco\, 10509\, United States
CATEGORIES:Camps
ATTACH;FMTTYPE=image/jpeg:https://westmorelandsanctuary.org/wp-content/uploads/2021/07/IMG_2222-2-e1626707094376.jpg
END:VEVENT
BEGIN:VEVENT
DTSTART;TZID=America/New_York:20240719T190000
DTEND;TZID=America/New_York:20240719T190000
DTSTAMP:20260423T005159
CREATED:20240628T191705Z
LAST-MODIFIED:20240628T191837Z
UID:10000624-1721415600-1721415600@westmorelandsanctuary.org
SUMMARY:A Benefit Staged Reading
DESCRIPTION:  \nTickets and more info here
URL:https://westmorelandsanctuary.org/calendar/a-benefit-staged-reading/
LOCATION:Westmoreland\, 260 Chestnut Ridge Rd\, Mt Kisco\, 10509\, United States
CATEGORIES:Art Programs,Public Programs,Special Events
ATTACH;FMTTYPE=image/jpeg:https://westmorelandsanctuary.org/wp-content/uploads/2024/06/Timing-POSTERw_QR-2.jpg
END:VEVENT
BEGIN:VEVENT
DTSTART;TZID=America/New_York:20240709T090000
DTEND;TZID=America/New_York:20240712T150000
DTSTAMP:20260423T005159
CREATED:20240110T205740Z
LAST-MODIFIED:20240110T205741Z
UID:10000582-1720515600-1720796400@westmorelandsanctuary.org
SUMMARY:Nature Explorers I Camp
DESCRIPTION:
URL:https://westmorelandsanctuary.org/calendar/nature-explorers-i-camp-2/
LOCATION:Westmoreland\, 260 Chestnut Ridge Rd\, Mt Kisco\, 10509\, United States
CATEGORIES:Camps
ATTACH;FMTTYPE=image/jpeg:https://westmorelandsanctuary.org/wp-content/uploads/2024/01/IMG_9714-rotated.jpg
END:VEVENT
BEGIN:VEVENT
DTSTART;TZID=America/New_York:20240630T093000
DTEND;TZID=America/New_York:20240630T113000
DTSTAMP:20260423T005159
CREATED:20240628T184618Z
LAST-MODIFIED:20240628T184737Z
UID:10000623-1719739800-1719747000@westmorelandsanctuary.org
SUMMARY:Nature Photography
DESCRIPTION:To buy tickets and see more info here
URL:https://westmorelandsanctuary.org/calendar/nature-photography/
LOCATION:Westmoreland\, 260 Chestnut Ridge Rd\, Mt Kisco\, 10509\, United States
CATEGORIES:Art Programs,Special Events,Yearly Events
ATTACH;FMTTYPE=image/jpeg:https://westmorelandsanctuary.org/wp-content/uploads/2024/01/American-Goldfinch-scaled.jpg
END:VEVENT
BEGIN:VEVENT
DTSTART;VALUE=DATE:20240527
DTEND;VALUE=DATE:20240528
DTSTAMP:20260423T005159
CREATED:20240515T184945Z
LAST-MODIFIED:20240515T185649Z
UID:10000613-1716768000-1716854399@westmorelandsanctuary.org
SUMMARY:Memorial Day Hike
DESCRIPTION:Memorial Day Hike
URL:https://westmorelandsanctuary.org/calendar/memorial-day-hike/
CATEGORIES:Special Events
ATTACH;FMTTYPE=image/jpeg:https://westmorelandsanctuary.org/wp-content/uploads/2022/02/Trail-Fox-Run_featured-image.jpg
END:VEVENT
BEGIN:VEVENT
DTSTART;TZID=America/New_York:20240505T080000
DTEND;TZID=America/New_York:20240505T170000
DTSTAMP:20260423T005159
CREATED:20240129T130849Z
LAST-MODIFIED:20240131T180803Z
UID:10000593-1714896000-1714928400@westmorelandsanctuary.org
SUMMARY:Orienteering - Raid the Sanctuary
DESCRIPTION:
URL:https://westmorelandsanctuary.org/calendar/orienteering-raid-the-sanctuary/
LOCATION:Westmoreland\, 260 Chestnut Ridge Rd\, Mt Kisco\, 10509\, United States
CATEGORIES:Special Events,Year-Round Programs
ATTACH;FMTTYPE=image/jpeg:https://westmorelandsanctuary.org/wp-content/uploads/2021/03/IMG_2224.jpg
END:VEVENT
END:VCALENDAR