BEGIN:VCALENDAR
VERSION:2.0
PRODID:-//Westmoreland Sanctuary - ECPv6.15.20//NONSGML v1.0//EN
CALSCALE:GREGORIAN
METHOD:PUBLISH
X-WR-CALNAME:Westmoreland Sanctuary
X-ORIGINAL-URL:https://westmorelandsanctuary.org
X-WR-CALDESC:Events for Westmoreland Sanctuary
REFRESH-INTERVAL;VALUE=DURATION:PT1H
X-Robots-Tag:noindex
X-PUBLISHED-TTL:PT1H
BEGIN:VTIMEZONE
TZID:America/New_York
BEGIN:DAYLIGHT
TZOFFSETFROM:-0500
TZOFFSETTO:-0400
TZNAME:EDT
DTSTART:20240310T070000
END:DAYLIGHT
BEGIN:STANDARD
TZOFFSETFROM:-0400
TZOFFSETTO:-0500
TZNAME:EST
DTSTART:20241103T060000
END:STANDARD
BEGIN:DAYLIGHT
TZOFFSETFROM:-0500
TZOFFSETTO:-0400
TZNAME:EDT
DTSTART:20250309T070000
END:DAYLIGHT
BEGIN:STANDARD
TZOFFSETFROM:-0400
TZOFFSETTO:-0500
TZNAME:EST
DTSTART:20251102T060000
END:STANDARD
BEGIN:DAYLIGHT
TZOFFSETFROM:-0500
TZOFFSETTO:-0400
TZNAME:EDT
DTSTART:20260308T070000
END:DAYLIGHT
BEGIN:STANDARD
TZOFFSETFROM:-0400
TZOFFSETTO:-0500
TZNAME:EST
DTSTART:20261101T060000
END:STANDARD
BEGIN:DAYLIGHT
TZOFFSETFROM:-0500
TZOFFSETTO:-0400
TZNAME:EDT
DTSTART:20270314T070000
END:DAYLIGHT
BEGIN:STANDARD
TZOFFSETFROM:-0400
TZOFFSETTO:-0500
TZNAME:EST
DTSTART:20271107T060000
END:STANDARD
END:VTIMEZONE
BEGIN:VEVENT
DTSTART;TZID=America/New_York:20251228T130000
DTEND;TZID=America/New_York:20251228T150000
DTSTAMP:20260422T211007
CREATED:20251205T184105Z
LAST-MODIFIED:20251205T184105Z
UID:10000813-1766926800-1766934000@westmorelandsanctuary.org
SUMMARY:Meet the Animals & Winter Nature Hike
DESCRIPTION:
URL:https://westmorelandsanctuary.org/calendar/meet-the-animals-winter-nature-hike/2025-12-28/
LOCATION:Westmoreland\, 260 Chestnut Ridge Rd\, Mt Kisco\, 10509\, United States
CATEGORIES:Birding,Special Events
ATTACH;FMTTYPE=image/jpeg:https://westmorelandsanctuary.org/wp-content/uploads/2025/12/Northern-cardinal-Cardinalis-cardinalis.jpg
END:VEVENT
BEGIN:VEVENT
DTSTART;VALUE=DATE:20251222
DTEND;VALUE=DATE:20260105
DTSTAMP:20260422T211008
CREATED:20251214T160635Z
LAST-MODIFIED:20251214T160635Z
UID:10000814-1766361600-1767571199@westmorelandsanctuary.org
SUMMARY:EEC Holiday Closing
DESCRIPTION:
URL:https://westmorelandsanctuary.org/calendar/eec-holiday-closing/
LOCATION:Westmoreland\, 260 Chestnut Ridge Rd\, Mt Kisco\, 10509\, United States
END:VEVENT
BEGIN:VEVENT
DTSTART;TZID=America/New_York:20251213T190000
DTEND;TZID=America/New_York:20251213T210000
DTSTAMP:20260422T211008
CREATED:20250821T230329Z
LAST-MODIFIED:20250821T230329Z
UID:10000746-1765652400-1765659600@westmorelandsanctuary.org
SUMMARY:Wreath Making II
DESCRIPTION:
URL:https://westmorelandsanctuary.org/calendar/wreath-making-ii/
LOCATION:Westmoreland\, 260 Chestnut Ridge Rd\, Mt Kisco\, 10509\, United States
CATEGORIES:Art Programs,Special Events,Yearly Events
ATTACH;FMTTYPE=image/jpeg:https://westmorelandsanctuary.org/wp-content/uploads/2025/08/IMG_9630-scaled.jpeg
END:VEVENT
BEGIN:VEVENT
DTSTART;TZID=America/New_York:20251211T190000
DTEND;TZID=America/New_York:20251211T210000
DTSTAMP:20260422T211008
CREATED:20250821T230229Z
LAST-MODIFIED:20250821T230229Z
UID:10000745-1765479600-1765486800@westmorelandsanctuary.org
SUMMARY:Wreath Making I
DESCRIPTION:
URL:https://westmorelandsanctuary.org/calendar/wreath-making-i/
LOCATION:Westmoreland\, 260 Chestnut Ridge Rd\, Mt Kisco\, 10509\, United States
CATEGORIES:After Hours Program,Special Events,Yearly Events
ATTACH;FMTTYPE=image/jpeg:https://westmorelandsanctuary.org/wp-content/uploads/2025/08/IMG_9628-scaled.jpeg
END:VEVENT
BEGIN:VEVENT
DTSTART;TZID=America/New_York:20251111T110000
DTEND;TZID=America/New_York:20251111T130000
DTSTAMP:20260422T211008
CREATED:20251006T193221Z
LAST-MODIFIED:20251022T190743Z
UID:10000791-1762858800-1762866000@westmorelandsanctuary.org
SUMMARY:Fall Foliage & Mushroom Hike
DESCRIPTION:See Details: Here
URL:https://westmorelandsanctuary.org/calendar/late-fall-foliage-hike-2/
LOCATION:Westmoreland\, 260 Chestnut Ridge Rd\, Mt Kisco\, 10509\, United States
ATTACH;FMTTYPE=image/jpeg:https://westmorelandsanctuary.org/wp-content/uploads/2025/10/IMG_1735.jpg
END:VEVENT
BEGIN:VEVENT
DTSTART;TZID=America/New_York:20251104T100000
DTEND;TZID=America/New_York:20251104T113000
DTSTAMP:20260422T211008
CREATED:20251021T171012Z
LAST-MODIFIED:20251021T171323Z
UID:10000794-1762250400-1762255800@westmorelandsanctuary.org
SUMMARY:Beginner Birding Blitz
DESCRIPTION:
URL:https://westmorelandsanctuary.org/calendar/beginner-birding-blitz/
LOCATION:Westmoreland\, 260 Chestnut Ridge Rd\, Mt Kisco\, 10509\, United States
CATEGORIES:Birding
ATTACH;FMTTYPE=image/jpeg:https://westmorelandsanctuary.org/wp-content/uploads/2025/10/Northern-cardinal-Cardinalis-cardinalis.jpg
END:VEVENT
BEGIN:VEVENT
DTSTART;TZID=America/New_York:20251104T100000
DTEND;TZID=America/New_York:20251104T104500
DTSTAMP:20260422T211008
CREATED:20250909T133243Z
LAST-MODIFIED:20250909T133340Z
UID:10000769-1762250400-1762253100@westmorelandsanctuary.org
SUMMARY:Kids 'N Critters
DESCRIPTION:
URL:https://westmorelandsanctuary.org/calendar/kids-n-critters/2025-11-04/
LOCATION:Westmoreland\, 260 Chestnut Ridge Rd\, Mt Kisco\, 10509\, United States
CATEGORIES:Camps,Education,Yearly Events
ATTACH;FMTTYPE=image/png:https://westmorelandsanctuary.org/wp-content/uploads/2025/09/Unknown.png
END:VEVENT
BEGIN:VEVENT
DTSTART;TZID=America/New_York:20251013T130000
DTEND;TZID=America/New_York:20251013T150000
DTSTAMP:20260422T211008
CREATED:20250929T135654Z
LAST-MODIFIED:20250930T130759Z
UID:10000788-1760360400-1760367600@westmorelandsanctuary.org
SUMMARY:Colonial Cider Making
DESCRIPTION:
URL:https://westmorelandsanctuary.org/calendar/colonial-cider-making-3/
LOCATION:Westmoreland\, 260 Chestnut Ridge Rd\, Mt Kisco\, 10509\, United States
CATEGORIES:Public Programs,Special Events
ATTACH;FMTTYPE=image/jpeg:https://westmorelandsanctuary.org/wp-content/uploads/2025/09/apple-cider-making-at-Westmoreland-Sanctuary.jpg
END:VEVENT
BEGIN:VEVENT
DTSTART;TZID=America/New_York:20251013T110000
DTEND;TZID=America/New_York:20251013T130000
DTSTAMP:20260422T211008
CREATED:20250909T142902Z
LAST-MODIFIED:20250909T142903Z
UID:10000771-1760353200-1760360400@westmorelandsanctuary.org
SUMMARY:Fall Folliage
DESCRIPTION:
URL:https://westmorelandsanctuary.org/calendar/fall-folliage/
LOCATION:Westmoreland\, 260 Chestnut Ridge Rd\, Mt Kisco\, 10509\, United States
CATEGORIES:Special Events,Yearly Events
ATTACH;FMTTYPE=image/jpeg:https://westmorelandsanctuary.org/wp-content/uploads/2020/12/Fall-Bechtel-Lake.jpg
END:VEVENT
BEGIN:VEVENT
DTSTART;TZID=America/New_York:20251011T173000
DTEND;TZID=America/New_York:20251011T193000
DTSTAMP:20260422T211008
CREATED:20250909T140724Z
LAST-MODIFIED:20250909T143408Z
UID:10000770-1760203800-1760211000@westmorelandsanctuary.org
SUMMARY:Haunted Halloween Hike
DESCRIPTION:
URL:https://westmorelandsanctuary.org/calendar/haunted-halloween-hike/
LOCATION:Westmoreland\, 260 Chestnut Ridge Rd\, Mt Kisco\, 10509\, United States
CATEGORIES:Special Events,Yearly Events
ATTACH;FMTTYPE=image/jpeg:https://westmorelandsanctuary.org/wp-content/uploads/2025/08/IMG_5319-1-1-1.jpg
END:VEVENT
BEGIN:VEVENT
DTSTART;TZID=America/New_York:20251009T190000
DTEND;TZID=America/New_York:20251009T210000
DTSTAMP:20260422T211008
CREATED:20250821T230110Z
LAST-MODIFIED:20250821T230110Z
UID:10000744-1760036400-1760043600@westmorelandsanctuary.org
SUMMARY:Floral Design - Easing into Fall with Wildflowers
DESCRIPTION:
URL:https://westmorelandsanctuary.org/calendar/floral-design-easing-into-fall-with-wildflowers/
LOCATION:Westmoreland\, 260 Chestnut Ridge Rd\, Mt Kisco\, 10509\, United States
CATEGORIES:Art Programs,Yearly Events
ATTACH;FMTTYPE=image/jpeg:https://westmorelandsanctuary.org/wp-content/uploads/2025/08/IMG_7984-scaled.jpeg
END:VEVENT
BEGIN:VEVENT
DTSTART;TZID=America/New_York:20250924T103000
DTEND;TZID=America/New_York:20250924T120000
DTSTAMP:20260422T211008
CREATED:20250821T231813Z
LAST-MODIFIED:20250821T233045Z
UID:10000748-1758709800-1758715200@westmorelandsanctuary.org
SUMMARY:Colonial Cider Making
DESCRIPTION:
URL:https://westmorelandsanctuary.org/calendar/colonial-cider-making/2025-09-24/
LOCATION:Westmoreland\, 260 Chestnut Ridge Rd\, Mt Kisco\, 10509\, United States
CATEGORIES:Special Events,Yearly Events
ATTACH;FMTTYPE=image/jpeg:https://westmorelandsanctuary.org/wp-content/uploads/2024/10/apple-cider-making.jpg
END:VEVENT
BEGIN:VEVENT
DTSTART;TZID=America/New_York:20250914T100000
DTEND;TZID=America/New_York:20250914T120000
DTSTAMP:20260422T211008
CREATED:20250911T202403Z
LAST-MODIFIED:20250911T202415Z
UID:10000775-1757844000-1757851200@westmorelandsanctuary.org
SUMMARY:Conservation Volunteer Day
DESCRIPTION:
URL:https://westmorelandsanctuary.org/calendar/conservation-volunteer-day/
LOCATION:Westmoreland\, 260 Chestnut Ridge Rd\, Mt Kisco\, 10509\, United States
CATEGORIES:Public Programs,Special Events,Volunteers
ATTACH;FMTTYPE=image/jpeg:https://westmorelandsanctuary.org/wp-content/uploads/2025/09/60549cd5-9038-38d3-afa3-868a97655f66.jpg
END:VEVENT
BEGIN:VEVENT
DTSTART;TZID=America/New_York:20250913T110000
DTEND;TZID=America/New_York:20250913T130000
DTSTAMP:20260422T211008
CREATED:20250822T162637Z
LAST-MODIFIED:20250822T163026Z
UID:10000749-1757761200-1757768400@westmorelandsanctuary.org
SUMMARY:Guided Nature Hike
DESCRIPTION:Powered by
URL:https://westmorelandsanctuary.org/calendar/guided-nature-hike/
LOCATION:Westmoreland\, 260 Chestnut Ridge Rd\, Mt Kisco\, 10509\, United States
ATTACH;FMTTYPE=image/jpeg:https://westmorelandsanctuary.org/wp-content/uploads/2025/04/Purple-Flower-Ann-Paul.jpg
END:VEVENT
BEGIN:VEVENT
DTSTART;TZID=America/New_York:20250825T090000
DTEND;TZID=America/New_York:20250829T150000
DTSTAMP:20260422T211008
CREATED:20250310T151837Z
LAST-MODIFIED:20250310T151837Z
UID:10000701-1756112400-1756479600@westmorelandsanctuary.org
SUMMARY:Nature Art Camp
DESCRIPTION:
URL:https://westmorelandsanctuary.org/calendar/nature-art-camp/
LOCATION:Westmoreland\, 260 Chestnut Ridge Rd\, Mt Kisco\, 10509\, United States
ATTACH;FMTTYPE=image/jpeg:https://westmorelandsanctuary.org/wp-content/uploads/2024/01/IMG_0008.jpg
END:VEVENT
BEGIN:VEVENT
DTSTART;TZID=America/New_York:20250818T090000
DTEND;TZID=America/New_York:20250822T150000
DTSTAMP:20260422T211008
CREATED:20250310T151725Z
LAST-MODIFIED:20250310T151725Z
UID:10000700-1755507600-1755874800@westmorelandsanctuary.org
SUMMARY:Summer Conservation Camp
DESCRIPTION:
URL:https://westmorelandsanctuary.org/calendar/summer-conservation-camp-3/
LOCATION:Westmoreland\, 260 Chestnut Ridge Rd\, Mt Kisco\, 10509\, United States
CATEGORIES:Camps
ATTACH;FMTTYPE=image/jpeg:https://westmorelandsanctuary.org/wp-content/uploads/2024/01/IMG_8723.jpg
END:VEVENT
BEGIN:VEVENT
DTSTART;TZID=America/New_York:20250816T203000
DTEND;TZID=America/New_York:20250816T223000
DTSTAMP:20260422T211008
CREATED:20250707T170154Z
LAST-MODIFIED:20250707T170332Z
UID:10000735-1755376200-1755383400@westmorelandsanctuary.org
SUMMARY:Evening with the Moths
DESCRIPTION:Get info and buy tickets here
URL:https://westmorelandsanctuary.org/calendar/evening-with-the-moths/
LOCATION:Westmoreland\, 260 Chestnut Ridge Rd\, Mt Kisco\, 10509\, United States
CATEGORIES:After Hours Program,Education,Special Events,Yearly Events
ATTACH;FMTTYPE=image/jpeg:https://westmorelandsanctuary.org/wp-content/uploads/2023/02/Mothing-scaled.jpg
END:VEVENT
BEGIN:VEVENT
DTSTART;TZID=America/New_York:20250811T090000
DTEND;TZID=America/New_York:20250815T150000
DTSTAMP:20260422T211008
CREATED:20250310T151614Z
LAST-MODIFIED:20250310T151614Z
UID:10000699-1754902800-1755270000@westmorelandsanctuary.org
SUMMARY:Understanding Nature Camp
DESCRIPTION:
URL:https://westmorelandsanctuary.org/calendar/understanding-nature-camp/
LOCATION:Westmoreland\, 260 Chestnut Ridge Rd\, Mt Kisco\, 10509\, United States
CATEGORIES:Camps
ATTACH;FMTTYPE=image/jpeg:https://westmorelandsanctuary.org/wp-content/uploads/2024/01/IMG_0017.jpg
END:VEVENT
BEGIN:VEVENT
DTSTART;TZID=America/New_York:20250804T090000
DTEND;TZID=America/New_York:20250808T150000
DTSTAMP:20260422T211008
CREATED:20250310T151445Z
LAST-MODIFIED:20250310T151445Z
UID:10000698-1754298000-1754665200@westmorelandsanctuary.org
SUMMARY:Survive the Wild II Camp
DESCRIPTION:
URL:https://westmorelandsanctuary.org/calendar/survive-the-wild-ii-camp-3/
LOCATION:Westmoreland\, 260 Chestnut Ridge Rd\, Mt Kisco\, 10509\, United States
CATEGORIES:Camps
ATTACH;FMTTYPE=image/jpeg:https://westmorelandsanctuary.org/wp-content/uploads/2024/01/IMG_9714-rotated.jpg
END:VEVENT
BEGIN:VEVENT
DTSTART;TZID=America/New_York:20250728T090000
DTEND;TZID=America/New_York:20250801T150000
DTSTAMP:20260422T211008
CREATED:20250310T151215Z
LAST-MODIFIED:20250310T151306Z
UID:10000697-1753693200-1754060400@westmorelandsanctuary.org
SUMMARY:Humans and Nature Camp
DESCRIPTION:
URL:https://westmorelandsanctuary.org/calendar/humans-and-nature-camp/
LOCATION:Westmoreland\, 260 Chestnut Ridge Rd\, Mt Kisco\, 10509\, United States
CATEGORIES:Camps
ATTACH;FMTTYPE=image/jpeg:https://westmorelandsanctuary.org/wp-content/uploads/2024/01/IMG_9781-rotated.jpg
END:VEVENT
BEGIN:VEVENT
DTSTART;TZID=America/New_York:20250721T090000
DTEND;TZID=America/New_York:20250725T150000
DTSTAMP:20260422T211008
CREATED:20250310T151034Z
LAST-MODIFIED:20250310T151034Z
UID:10000696-1753088400-1753455600@westmorelandsanctuary.org
SUMMARY:Survive the Wild I
DESCRIPTION:
URL:https://westmorelandsanctuary.org/calendar/survive-the-wild-i/
LOCATION:Westmoreland\, 260 Chestnut Ridge Rd\, Mt Kisco\, 10509\, United States
CATEGORIES:Camps
ATTACH;FMTTYPE=image/jpeg:https://westmorelandsanctuary.org/wp-content/uploads/2024/01/IMG_9714-rotated.jpg
END:VEVENT
BEGIN:VEVENT
DTSTART;TZID=America/New_York:20250714T090000
DTEND;TZID=America/New_York:20250718T150000
DTSTAMP:20260422T211008
CREATED:20250310T150832Z
LAST-MODIFIED:20250310T150832Z
UID:10000695-1752483600-1752850800@westmorelandsanctuary.org
SUMMARY:Ecological Arts Camp
DESCRIPTION:
URL:https://westmorelandsanctuary.org/calendar/ecological-arts-camp/
LOCATION:Westmoreland\, 260 Chestnut Ridge Rd\, Mt Kisco\, 10509\, United States
CATEGORIES:Camps
ATTACH;FMTTYPE=image/jpeg:https://westmorelandsanctuary.org/wp-content/uploads/2025/02/6656.jpg
END:VEVENT
BEGIN:VEVENT
DTSTART;TZID=America/New_York:20250707T090000
DTEND;TZID=America/New_York:20250711T150000
DTSTAMP:20260422T211008
CREATED:20250310T150711Z
LAST-MODIFIED:20250310T150711Z
UID:10000694-1751878800-1752246000@westmorelandsanctuary.org
SUMMARY:Habitats\, Homes and Haunts Summer Camp
DESCRIPTION:
URL:https://westmorelandsanctuary.org/calendar/habitats-homes-and-haunts-summer-camp/
LOCATION:Westmoreland\, 260 Chestnut Ridge Rd\, Mt Kisco\, 10509\, United States
ATTACH;FMTTYPE=image/jpeg:https://westmorelandsanctuary.org/wp-content/uploads/2024/01/IMG_0017.jpg
END:VEVENT
BEGIN:VEVENT
DTSTART;TZID=America/New_York:20250630T090000
DTEND;TZID=America/New_York:20250704T150000
DTSTAMP:20260422T211008
CREATED:20250310T150423Z
LAST-MODIFIED:20250310T150436Z
UID:10000693-1751274000-1751641200@westmorelandsanctuary.org
SUMMARY:Nature Explorers Camp
DESCRIPTION:
URL:https://westmorelandsanctuary.org/calendar/nature-explorers-camp/
LOCATION:Westmoreland\, 260 Chestnut Ridge Rd\, Mt Kisco\, 10509\, United States
CATEGORIES:Camps
ATTACH;FMTTYPE=image/jpeg:https://westmorelandsanctuary.org/wp-content/uploads/2024/01/IMG_9781-rotated.jpg
END:VEVENT
BEGIN:VEVENT
DTSTART;VALUE=DATE:20250630
DTEND;VALUE=DATE:20250926
DTSTAMP:20260422T211008
CREATED:20250707T161006Z
LAST-MODIFIED:20250707T162730Z
UID:10000734-1751241600-1758844799@westmorelandsanctuary.org
SUMMARY:Environmental Education Center Closed for Construction
DESCRIPTION:
URL:https://westmorelandsanctuary.org/calendar/environmental-education-center-closed-for-construction/
LOCATION:Westmoreland\, 260 Chestnut Ridge Rd\, Mt Kisco\, 10509\, United States
END:VEVENT
BEGIN:VEVENT
DTSTART;TZID=America/New_York:20250628T110000
DTEND;TZID=America/New_York:20250628T130000
DTSTAMP:20260422T211008
CREATED:20250416T221238Z
LAST-MODIFIED:20250518T165657Z
UID:10000726-1751108400-1751115600@westmorelandsanctuary.org
SUMMARY:Junior Animal Care day
DESCRIPTION:
URL:https://westmorelandsanctuary.org/calendar/junior-animal-care-day-2/2025-06-28/
LOCATION:Westmoreland\, 260 Chestnut Ridge Rd\, Mt Kisco\, 10509\, United States
CATEGORIES:Education
ATTACH;FMTTYPE=image/jpeg:https://westmorelandsanctuary.org/wp-content/uploads/2024/10/thumbnail_58FAA42A-FEB5-4670-AB10-3AF9B1350E02-e1727798752126.jpg
END:VEVENT
BEGIN:VEVENT
DTSTART;TZID=America/New_York:20250517T090000
DTEND;TZID=America/New_York:20250517T110000
DTSTAMP:20260422T211008
CREATED:20250331T162322Z
LAST-MODIFIED:20250331T162322Z
UID:10000713-1747472400-1747479600@westmorelandsanctuary.org
SUMMARY:Birding
DESCRIPTION:
URL:https://westmorelandsanctuary.org/calendar/birding/2025-05-17/
LOCATION:Westmoreland\, 260 Chestnut Ridge Rd\, Mt Kisco\, 10509\, United States
ATTACH;FMTTYPE=image/jpeg:https://westmorelandsanctuary.org/wp-content/uploads/2025/03/American-Redstart-Female-Patrick-Carney-1.jpg
END:VEVENT
BEGIN:VEVENT
DTSTART;TZID=America/New_York:20250510T160000
DTEND;TZID=America/New_York:20250510T190000
DTSTAMP:20260422T211008
CREATED:20250324T192858Z
LAST-MODIFIED:20250325T124939Z
UID:10000710-1746892800-1746903600@westmorelandsanctuary.org
SUMMARY:Westmoreland Sanctuary's Family Party
DESCRIPTION:
URL:https://westmorelandsanctuary.org/calendar/westmoreland-sanctuarys-family-party/
LOCATION:Westmoreland\, 260 Chestnut Ridge Rd\, Mt Kisco\, 10509\, United States
CATEGORIES:Special Events
ATTACH;FMTTYPE=image/jpeg:https://westmorelandsanctuary.org/wp-content/uploads/2025/03/Outdoor-Bird-Program-Ann-Paul-2.jpg
END:VEVENT
BEGIN:VEVENT
DTSTART;TZID=America/New_York:20250426T090000
DTEND;TZID=America/New_York:20250426T140000
DTSTAMP:20260422T211008
CREATED:20250313T202153Z
LAST-MODIFIED:20250313T202154Z
UID:10000708-1745658000-1745676000@westmorelandsanctuary.org
SUMMARY:Spring Orienteering Event: Raid the Sanctuary
DESCRIPTION:
URL:https://westmorelandsanctuary.org/calendar/spring-orienteering-event-raid-the-sanctuary/
LOCATION:Westmoreland\, 260 Chestnut Ridge Rd\, Mt Kisco\, 10509\, United States
CATEGORIES:Special Events,Yearly Events
ATTACH;FMTTYPE=image/png:https://westmorelandsanctuary.org/wp-content/uploads/2022/04/Orienteering2_Box.png
END:VEVENT
BEGIN:VEVENT
DTSTART;TZID=America/New_York:20250419T140000
DTEND;TZID=America/New_York:20250419T160000
DTSTAMP:20260422T211008
CREATED:20250416T214055Z
LAST-MODIFIED:20250416T214932Z
UID:10000716-1745071200-1745078400@westmorelandsanctuary.org
SUMMARY:Spring Hike with Director of Conservation\, Steve Ricker
DESCRIPTION:
URL:https://westmorelandsanctuary.org/calendar/spring-hike-with-director-of-conservation-steve-ricker/
LOCATION:Westmoreland\, 260 Chestnut Ridge Rd\, Mt Kisco\, 10509\, United States
CATEGORIES:Public Programs,Special Events
ATTACH;FMTTYPE=image/jpeg:https://westmorelandsanctuary.org/wp-content/uploads/2025/04/Purple-Flower-Ann-Paul.jpg
END:VEVENT
END:VCALENDAR