BEGIN:VCALENDAR
VERSION:2.0
PRODID:-//Westmoreland Sanctuary - ECPv6.15.20//NONSGML v1.0//EN
CALSCALE:GREGORIAN
METHOD:PUBLISH
X-WR-CALNAME:Westmoreland Sanctuary
X-ORIGINAL-URL:https://westmorelandsanctuary.org
X-WR-CALDESC:Events for Westmoreland Sanctuary
REFRESH-INTERVAL;VALUE=DURATION:PT1H
X-Robots-Tag:noindex
X-PUBLISHED-TTL:PT1H
BEGIN:VTIMEZONE
TZID:America/New_York
BEGIN:DAYLIGHT
TZOFFSETFROM:-0500
TZOFFSETTO:-0400
TZNAME:EDT
DTSTART:20250309T070000
END:DAYLIGHT
BEGIN:STANDARD
TZOFFSETFROM:-0400
TZOFFSETTO:-0500
TZNAME:EST
DTSTART:20251102T060000
END:STANDARD
BEGIN:DAYLIGHT
TZOFFSETFROM:-0500
TZOFFSETTO:-0400
TZNAME:EDT
DTSTART:20260308T070000
END:DAYLIGHT
BEGIN:STANDARD
TZOFFSETFROM:-0400
TZOFFSETTO:-0500
TZNAME:EST
DTSTART:20261101T060000
END:STANDARD
BEGIN:DAYLIGHT
TZOFFSETFROM:-0500
TZOFFSETTO:-0400
TZNAME:EDT
DTSTART:20270314T070000
END:DAYLIGHT
BEGIN:STANDARD
TZOFFSETFROM:-0400
TZOFFSETTO:-0500
TZNAME:EST
DTSTART:20271107T060000
END:STANDARD
END:VTIMEZONE
BEGIN:VEVENT
DTSTART;TZID=America/New_York:20260525T100000
DTEND;TZID=America/New_York:20260525T123000
DTSTAMP:20260422T175437
CREATED:20251120T185752Z
LAST-MODIFIED:20251120T190006Z
UID:10000809-1779703200-1779712200@westmorelandsanctuary.org
SUMMARY:Colonial Cider Making
DESCRIPTION:Pay Now
URL:https://westmorelandsanctuary.org/calendar/colonial-cider-making-4/2026-05-25/1/
LOCATION:Westmoreland\, 260 Chestnut Ridge Rd\, Mt Kisco\, 10509\, United States
CATEGORIES:Special Events,Yearly Events
ATTACH;FMTTYPE=image/jpeg:https://westmorelandsanctuary.org/wp-content/uploads/2025/08/IMG_6936-1-scaled.jpg
END:VEVENT
BEGIN:VEVENT
DTSTART;TZID=America/New_York:20260525T130000
DTEND;TZID=America/New_York:20260525T143000
DTSTAMP:20260422T175437
CREATED:20251120T185752Z
LAST-MODIFIED:20251120T190006Z
UID:10000810-1779714000-1779719400@westmorelandsanctuary.org
SUMMARY:Colonial Cider Making
DESCRIPTION:Pay Now
URL:https://westmorelandsanctuary.org/calendar/colonial-cider-making-4/2026-05-25/2/
LOCATION:Westmoreland\, 260 Chestnut Ridge Rd\, Mt Kisco\, 10509\, United States
CATEGORIES:Special Events,Yearly Events
ATTACH;FMTTYPE=image/jpeg:https://westmorelandsanctuary.org/wp-content/uploads/2025/08/IMG_6936-1-scaled.jpg
END:VEVENT
END:VCALENDAR